BEGIN:VCALENDAR
VERSION:2.0
PRODID:-//Corvettes on the Gulf - ECPv5.6.0//NONSGML v1.0//EN
CALSCALE:GREGORIAN
METHOD:PUBLISH
X-WR-CALNAME:Corvettes on the Gulf
X-ORIGINAL-URL:https://corvettesonthegulf.com
X-WR-CALDESC:Events for Corvettes on the Gulf
BEGIN:VTIMEZONE
TZID:UTC
BEGIN:STANDARD
TZOFFSETFROM:+0000
TZOFFSETTO:+0000
TZNAME:UTC
DTSTART:20250101T000000
END:STANDARD
END:VTIMEZONE
BEGIN:VEVENT
DTSTART;TZID=UTC:20251108T100000
DTEND;TZID=UTC:20251108T150000
DTSTAMP:20260419T112036
CREATED:20251029T182012Z
LAST-MODIFIED:20251029T182422Z
UID:16595-1762596000-1762614000@corvettesonthegulf.com
SUMMARY:>>Corvettes of Naples- VETTE TOGETHER FOR CHARITY CAR SHOW
DESCRIPTION:Show Type: Corvette and Open Car\, Truck & Jeep Show\nWhere:  Bonita Springs High School\, 25592 Imperial Parkway Bonita Springs\, FL\, 34135 \nWhen:  Saturday November 8th\, 2025  >> 10:00AM Gates Open \nBenefit: Portion of Proceeds to Benefit Local Charities  \nFeatures:   Music\, 50/50 Raffle and Silent Auction!\, Food Trucks\, Vendors!  Come join the fun! \nPre-Registration Link to Judges Car Shows:   >>>>> Registration <<<<<\nEvent Flyer  >>>>  CLICK HERE! <<<<\n \n  \n 
URL:https://corvettesonthegulf.com/event/2025-12-6-car-show-2/
CATEGORIES:Neighboring Club Show,Special Event!
END:VEVENT
END:VCALENDAR